BEGIN:VCALENDAR
VERSION:2.0
PRODID:-//Pfadfindergruppe Karlstetten - ECPv4.6.26.1//NONSGML v1.0//EN
CALSCALE:GREGORIAN
METHOD:PUBLISH
X-WR-CALNAME:Pfadfindergruppe Karlstetten
X-ORIGINAL-URL:http://pfadfinder-karlstetten.at
X-WR-CALDESC:Veranstaltungen für Pfadfindergruppe Karlstetten
BEGIN:VEVENT
DTSTART;VALUE=DATE:20260705
DTEND;VALUE=DATE:20260712
DTSTAMP:20260421T184206
CREATED:20260306T212406Z
LAST-MODIFIED:20260306T212959Z
UID:6102-1783209600-1783814399@pfadfinder-karlstetten.at
SUMMARY:Sommerlager 2026
DESCRIPTION:Von 5. bis 11. Juli 2026 findet heuer wieder unser Sommerlager für WiWö\, GuSp und CaEx statt. Gemeinsam verbringen wir eine Woche am Pfadfinderlagerplatz in Lilienfeld\, wo Spiel\, Spaß und viele Abenteuer auf die Kinder und Jugendlichen warten. \nWeitere Informationen folgen in den nächsten Heimstunden. \nViel Spaß & Gut Pfad! \n
URL:http://pfadfinder-karlstetten.at/event/sommerlager-2026/
LOCATION:Pfadfinderhiem Lilienfeld\, Liftstraße 1\, Lilienfeld\, 3180\, Österreich
CATEGORIES:CaEx,GuSp,Kinderprogramm,WiWö
ATTACH;FMTTYPE=image/jpeg:http://pfadfinder-karlstetten.at/wp-content/uploads/2016/11/woela-gusp_820x315.jpg
END:VEVENT
END:VCALENDAR