BEGIN:VCALENDAR
VERSION:2.0
PRODID:-//Pfadfindergruppe Karlstetten - ECPv4.6.26.1//NONSGML v1.0//EN
CALSCALE:GREGORIAN
METHOD:PUBLISH
X-WR-CALNAME:Pfadfindergruppe Karlstetten
X-ORIGINAL-URL:http://pfadfinder-karlstetten.at
X-WR-CALDESC:Veranstaltungen für Pfadfindergruppe Karlstetten
BEGIN:VEVENT
DTSTART;TZID=Europe/Berlin:20260516T150000
DTEND;TZID=Europe/Berlin:20260516T170000
DTSTAMP:20260421T120226
CREATED:20260306T211426Z
LAST-MODIFIED:20260309T203459Z
UID:6096-1778943600-1778950800@pfadfinder-karlstetten.at
SUMMARY:Heimstunde: WiWö
DESCRIPTION:
URL:http://pfadfinder-karlstetten.at/event/heimstunden-wiwoe-gusp-caex-22/
LOCATION:Pfadfinderheim Karlstetten\, Am Hohlweg 22\, 3121 Karlstetten\, Österreich
CATEGORIES:Kinderprogramm,WiWö
END:VEVENT
END:VCALENDAR