BEGIN:VCALENDAR
VERSION:2.0
PRODID:-//Pfadfindergruppe Karlstetten - ECPv4.6.26.1//NONSGML v1.0//EN
CALSCALE:GREGORIAN
METHOD:PUBLISH
X-WR-CALNAME:Pfadfindergruppe Karlstetten
X-ORIGINAL-URL:http://pfadfinder-karlstetten.at
X-WR-CALDESC:Veranstaltungen für Pfadfindergruppe Karlstetten
BEGIN:VEVENT
DTSTART;TZID=Europe/Berlin:20260530T150000
DTEND;TZID=Europe/Berlin:20260530T170000
DTSTAMP:20260421T133835
CREATED:20260306T211401Z
LAST-MODIFIED:20260306T211603Z
UID:6094-1780153200-1780160400@pfadfinder-karlstetten.at
SUMMARY:Heimstunden: WiWö\, GuSp & CaEx
DESCRIPTION:
URL:http://pfadfinder-karlstetten.at/event/heimstunden-wiwoe-gusp-caex-21/
LOCATION:Pfadfinderheim Karlstetten\, Am Hohlweg 22\, 3121 Karlstetten\, Österreich
CATEGORIES:CaEx,GuSp,Kinderprogramm,WiWö
END:VEVENT
END:VCALENDAR