BEGIN:VCALENDAR
VERSION:2.0
PRODID:-//Pfadfindergruppe Karlstetten - ECPv4.6.26.1//NONSGML v1.0//EN
CALSCALE:GREGORIAN
METHOD:PUBLISH
X-WR-CALNAME:Pfadfindergruppe Karlstetten
X-ORIGINAL-URL:http://pfadfinder-karlstetten.at
X-WR-CALDESC:Veranstaltungen für Pfadfindergruppe Karlstetten
BEGIN:VEVENT
DTSTART;TZID=Europe/Berlin:20260321T150000
DTEND;TZID=Europe/Berlin:20260321T170000
DTSTAMP:20260421T163223
CREATED:20260306T211047Z
LAST-MODIFIED:20260306T211047Z
UID:6086-1774105200-1774112400@pfadfinder-karlstetten.at
SUMMARY:Heimstunden: WiWö\, GuSp & CaEx
DESCRIPTION:
URL:http://pfadfinder-karlstetten.at/event/heimstunden-wiwoe-gusp-caex-17/
LOCATION:Pfadfinderheim Karlstetten\, Am Hohlweg 22\, 3121 Karlstetten\, Österreich
CATEGORIES:CaEx,GuSp,Kinderprogramm,WiWö
END:VEVENT
END:VCALENDAR