BEGIN:VCALENDAR
VERSION:2.0
PRODID:-//Pfadfindergruppe Karlstetten - ECPv4.6.26.1//NONSGML v1.0//EN
CALSCALE:GREGORIAN
METHOD:PUBLISH
X-WR-CALNAME:Pfadfindergruppe Karlstetten
X-ORIGINAL-URL:http://pfadfinder-karlstetten.at
X-WR-CALDESC:Veranstaltungen für Pfadfindergruppe Karlstetten
BEGIN:VEVENT
DTSTART;TZID=Europe/Berlin:20190928T150000
DTEND;TZID=Europe/Berlin:20190928T170000
DTSTAMP:20260419T155556
CREATED:20190918T104717Z
LAST-MODIFIED:20190918T114814Z
UID:5544-1569682800-1569690000@pfadfinder-karlstetten.at
SUMMARY:Heimstunden: WiWö\, GuSp & CaEx
DESCRIPTION:Jeden zweiten Samstag finden die Heimstunden für WiWö\, GuSp  & CaEx im Pfadfinderheim Karlstetten statt. \n
URL:http://pfadfinder-karlstetten.at/event/heimstunde-wiwoe-gusp-caex/
LOCATION:Pfadfinderheim Karlstetten\, Am Hohlweg 22\, 3121 Karlstetten\, Österreich
CATEGORIES:CaEx,GuSp,Kinderprogramm,WiWö
END:VEVENT
END:VCALENDAR