BEGIN:VCALENDAR
VERSION:2.0
PRODID:-//Pfadfindergruppe Karlstetten - ECPv4.6.26.1//NONSGML v1.0//EN
CALSCALE:GREGORIAN
METHOD:PUBLISH
X-WR-CALNAME:Pfadfindergruppe Karlstetten
X-ORIGINAL-URL:http://pfadfinder-karlstetten.at
X-WR-CALDESC:Veranstaltungen für Pfadfindergruppe Karlstetten
BEGIN:VEVENT
DTSTART;TZID=Europe/Berlin:20260919T150000
DTEND;TZID=Europe/Berlin:20260919T170000
DTSTAMP:20260421T214604
CREATED:20260306T213805Z
LAST-MODIFIED:20260306T213805Z
UID:6108-1789830000-1789837200@pfadfinder-karlstetten.at
SUMMARY:Eröffnungsheimstunde 2026
DESCRIPTION:Es geht wieder los! Am Samstag\, 19. September starten wir gemeinsam mit allen Stufen in das neue Heimstundenjahr. \nAlle Kinder und Jugendlichen ab der 1. Klasse Volksschule sind herzlich willkommen. Wir freuen uns auf unsere Pfadi-Kids und natürlich auch auf viele neue Gesichter! \nSolltet ihr an diesem Termin keine Zeit haben\, ist ein Einstieg während des Jahres jederzeit möglich 🙂 \n
URL:http://pfadfinder-karlstetten.at/event/eroeffnungsheimstunde-2026/
LOCATION:Pfadfinderheim Karlstetten\, Am Hohlweg 22\, 3121 Karlstetten\, Österreich
CATEGORIES:CaEx,GuSp,Kinderprogramm,WiWö
END:VEVENT
END:VCALENDAR